BEGIN:VCALENDAR
VERSION:2.0
PRODID:-//Elli Biland - ECPv6.15.20//NONSGML v1.0//EN
CALSCALE:GREGORIAN
METHOD:PUBLISH
X-WR-CALNAME:Elli Biland
X-ORIGINAL-URL:https://ellibiland.ch
X-WR-CALDESC:Veranstaltungen für Elli Biland
REFRESH-INTERVAL;VALUE=DURATION:PT1H
X-Robots-Tag:noindex
X-PUBLISHED-TTL:PT1H
BEGIN:VTIMEZONE
TZID:Europe/Zurich
BEGIN:DAYLIGHT
TZOFFSETFROM:+0100
TZOFFSETTO:+0200
TZNAME:CEST
DTSTART:20250330T010000
END:DAYLIGHT
BEGIN:STANDARD
TZOFFSETFROM:+0200
TZOFFSETTO:+0100
TZNAME:CET
DTSTART:20251026T010000
END:STANDARD
BEGIN:DAYLIGHT
TZOFFSETFROM:+0100
TZOFFSETTO:+0200
TZNAME:CEST
DTSTART:20260329T010000
END:DAYLIGHT
BEGIN:STANDARD
TZOFFSETFROM:+0200
TZOFFSETTO:+0100
TZNAME:CET
DTSTART:20261025T010000
END:STANDARD
BEGIN:DAYLIGHT
TZOFFSETFROM:+0100
TZOFFSETTO:+0200
TZNAME:CEST
DTSTART:20270328T010000
END:DAYLIGHT
BEGIN:STANDARD
TZOFFSETFROM:+0200
TZOFFSETTO:+0100
TZNAME:CET
DTSTART:20271031T010000
END:STANDARD
END:VTIMEZONE
BEGIN:VEVENT
DTSTART;TZID=Europe/Zurich:20260424T190000
DTEND;TZID=Europe/Zurich:20260424T200000
DTSTAMP:20260423T124223
CREATED:20260115T073112Z
LAST-MODIFIED:20260115T073144Z
UID:1879-1777057200-1777060800@ellibiland.ch
SUMMARY:Mantra singen - Einklang für Körper\, Geist & Seele
DESCRIPTION:Tauche ein in die kraftvolle Welt der Mantras und spüre\, wie sich dein Inneres mit jedem Klang öffnet. Mantra Singen ist mehr als nur gemeinsames Singen – es ist eine meditative Praxis\, die dein Herz berührt\, deinen Geist beruhigt und deine Seele nährt. \nGemeinsam schaffen wir einen Raum der Verbundenheit\, in dem sich alte Blockaden lösen und neue Kraftquellen entstehen. Die wiederholten\, heilsamen Klänge bringen dich in einen Zustand der tiefen Präsenz und des Friedens. \nEgal\, ob du Anfänger*in bist oder schon Erfahrung hast – bei unseren Mantra-Singen-Events bist du herzlich willkommen\, deine Stimme zu entdecken\, mitzuschwingen und dich von der universellen Energie tragen zu lassen. \nLass uns gemeinsam singen\, loslassen und in die heilende Kraft der Schwingung eintauchen. \n\nSing mit uns – Lieder & Mantren aus aller Welt\n\n\nWir laden dich herzlich ein zum gemeinsamen Singen. In einer offenen\, liebevollen Runde erklingen internationale Lieder und kraftvolle Mantren – begleitet von Gitarre\, Trommel und Gebetsflöten. \n\n\nKomm\, wie du bist. Lass dich berühren. Sing dich frei.\n\n\nDie Teilnahme ist kostenlos – eine freiwillige Spende ist willkommen.
URL:https://ellibiland.ch/events/mantra-singen-einklang-fuer-koerper-geist-seele-04-04-26/
LOCATION:Mantra singen\, Aarestrasse 31\, Rupperswil\, 5102\, Switzerland
CATEGORIES:Mantra singen
ATTACH;FMTTYPE=image/jpeg:https://ellibiland.ch/wp-content/uploads/2025/06/PHOTO-2025-06-10-09-27-18-e1768395007993.jpg
ORGANIZER;CN="Elli Biland":MAILTO:info@ellibiland.ch
END:VEVENT
END:VCALENDAR